Workbook

Sheet VL site
A1: Allianz Immobilier Durable
A2: Date | B2: Valeur liquidative | C2: Détachement | D2: Evolution de la VL dividende réinvesti en base 100 depuis le lancement
A3: 45047 | B3: 100.49 | D3: 100
A4: =EDATE(A3,1) -> 45078 | B4: 100.62 | D4: =(B4+C4)/B3*D3 -> 100.12937 | J4: ISIN | K4: ALZ000000476
A5: =EDATE(A4,1) -> 45108 | B5: 96.65 | D5: =(B5+C5)/B4*D4 -> 96.178724
A6: 45139 | B6: 96.82 | D6: =(B6+C6)/B5*D5 -> 96.347895
A7: 45170 | B7: 96.93 | D7: =(B7+C7)/B6*D6 -> 96.457359
A8: 45200 | B8: 97.04 | D8: =(B8+C8)/B7*D7 -> 96.566823
A9: 45231 | B9: 97.24 | D9: =(B9+C9)/B8*D8 -> 96.765847
A10: 45261 | B10: 97.48 | D10: =(B10+C10)/B9*D9 -> 97.004677
A11: 45292 | B11: 92.94 | D11: =(B11+C11)/B10*D10 -> 92.486815
A12: 45323 | B12: 93.16 | D12: =(B12+C12)/B11*D11 -> 92.705742
A13: 45352 | B13: 93.38 | D13: =(B13+C13)/B12*D12 -> 92.924669
A14: 45383 | B14: 91.15 | D14: =(B14+C14)/B13*D13 -> 90.705543
A15: 45413 | B15: 91.39 | D15: =(B15+C15)/B14*D14 -> 90.944373
A16: 45444 | B16: 91.7 | D16: =(B16+C16)/B15*D15 -> 91.252861
A17: 45474 | B17: 93.86 | D17: =(B17+C17)/B16*D16 -> 93.402329
... A33: 45962 | B33: 103.18 | D33: =(B33+C33)/B32*D32 -> 102.67688

Sheet VL Quantalys
A1: Allianz Immobilier Durable
A2: Date Quantalys | B2: Valeur liquidative | C2: Détachement | D2: Evolution de la VL dividende réinvesti en base 100 depuis le lancement
A3: ='VL site'!A3-1 -> 45046 | B3: ='VL site'!B3 -> 100.49 | C3: ='VL site'!C3 -> 0 | D3: ='VL site'!D3 -> 100
A4: ='VL site'!A4-1 -> 45077 | B4: ='VL site'!B4 -> 100.62 | C4: ='VL site'!C4 -> 0 | D4: ='VL site'!D4 -> 100.12937
A5: ='VL site'!A5-1 -> 45107 | B5: ='VL site'!B5 -> 96.65 | C5: ='VL site'!C5 -> 0 | D5: ='VL site'!D5 -> 96.178724
A6: ='VL site'!A6-1 -> 45138 | B6: ='VL site'!B6 -> 96.82 | C6: ='VL site'!C6 -> 0 | D6: ='VL site'!D6 -> 96.347895
A7: ='VL site'!A7-1 -> 45169 | B7: ='VL site'!B7 -> 96.93 | C7: ='VL site'!C7 -> 0 | D7: ='VL site'!D7 -> 96.457359
A8: ='VL site'!A8-1 -> 45199 | B8: ='VL site'!B8 -> 97.04 | C8: ='VL site'!C8 -> 0 | D8: ='VL site'!D8 -> 96.566823
A9: ='VL site'!A9-1 -> 45230 | B9: ='VL site'!B9 -> 97.24 | C9: ='VL site'!C9 -> 0 | D9: ='VL site'!D9 -> 96.765847
A10: ='VL site'!A10-1 -> 45260 | B10: ='VL site'!B10 -> 97.48 | C10: ='VL site'!C10 -> 0 | D10: ='VL site'!D10 -> 97.004677
A11: ='VL site'!A11-1 -> 45291 | B11: ='VL site'!B11 -> 92.94 | C11: ='VL site'!C11 -> 0 | D11: ='VL site'!D11 -> 92.486815
A12: ='VL site'!A12-1 -> 45322 | B12: ='VL site'!B12 -> 93.16 | C12: ='VL site'!C12 -> 0 | D12: ='VL site'!D12 -> 92.705742
A13: ='VL site'!A13-1 -> 45351 | B13: ='VL site'!B13 -> 93.38 | C13: ='VL site'!C13 -> 0 | D13: ='VL site'!D13 -> 92.924669
A14: ='VL site'!A14-1 -> 45382 | B14: ='VL site'!B14 -> 91.15 | C14: ='VL site'!C14 -> 0 | D14: ='VL site'!D14 -> 90.705543
... A33: ='VL site'!A33-1 -> 45961 | B33: ='VL site'!B33 -> 103.18 | C33: ='VL site'!C33 -> 0 | D33: ='VL site'!D33 -> 102.67688

Sheet Graph
A4: Allianz Immobilier Durable
A5: Date | B5: Evolution dividende réinvesti en base 100 depuis le lancement | C5: Valeur liquidative (axe de gauche) | D5: Détachement
A6: ='VL site'!A3 -> 45047 | B6: ='VL site'!D3 -> 100 | C6: ='VL site'!B3 -> 100.49
A7: ='VL site'!A4 -> 45078 | B7: ='VL site'!D4 -> 100.12937 | C7: ='VL site'!B4 -> 100.62
A8: ='VL site'!A5 -> 45108 | B8: ='VL site'!D5 -> 96.178724 | C8: ='VL site'!B5 -> 96.65
A9: ='VL site'!A6 -> 45139 | B9: ='VL site'!D6 -> 96.347895 | C9: ='VL site'!B6 -> 96.82
A10: ='VL site'!A7 -> 45170 | B10: ='VL site'!D7 -> 96.457359 | C10: ='VL site'!B7 -> 96.93
A11: ='VL site'!A8 -> 45200 | B11: ='VL site'!D8 -> 96.566823 | C11: ='VL site'!B8 -> 97.04
A12: ='VL site'!A9 -> 45231 | B12: ='VL site'!D9 -> 96.765847 | C12: ='VL site'!B9 -> 97.24
A13: ='VL site'!A10 -> 45261 | B13: ='VL site'!D10 -> 97.004677 | C13: ='VL site'!B10 -> 97.48
A14: ='VL site'!A11 -> 45292 | B14: ='VL site'!D11 -> 92.486815 | C14: ='VL site'!B11 -> 92.94
A15: ='VL site'!A12 -> 45323 | B15: ='VL site'!D12 -> 92.705742 | C15: ='VL site'!B12 -> 93.16
A16: ='VL site'!A13 -> 45352 | B16: ='VL site'!D13 -> 92.924669 | C16: ='VL site'!B13 -> 93.38
A17: ='VL site'!A14 -> 45383 | B17: ='VL site'!D14 -> 90.705543 | C17: ='VL site'!B14 -> 91.15
... A36: ='VL site'!A33 -> 45962 | B36: ='VL site'!D33 -> 102.67688 | C36: ='VL site'!B33 -> 103.18
